BEGIN:VCALENDAR
VERSION:2.0
PRODID:-//Especialistas en el Suministro de Materias Primas - ECPv6.15.13.1//NONSGML v1.0//EN
CALSCALE:GREGORIAN
METHOD:PUBLISH
X-WR-CALNAME:Especialistas en el Suministro de Materias Primas
X-ORIGINAL-URL:https://parabor.com.co
X-WR-CALDESC:Eventos para Especialistas en el Suministro de Materias Primas
REFRESH-INTERVAL;VALUE=DURATION:PT1H
X-Robots-Tag:noindex
X-PUBLISHED-TTL:PT1H
BEGIN:VTIMEZONE
TZID:UTC
BEGIN:STANDARD
TZOFFSETFROM:+0000
TZOFFSETTO:+0000
TZNAME:UTC
DTSTART:20250101T000000
END:STANDARD
END:VTIMEZONE
BEGIN:VEVENT
DTSTART;TZID=UTC:20260224T080000
DTEND;TZID=UTC:20260225T170000
DTSTAMP:20260420T110918
CREATED:20251118T193950Z
LAST-MODIFIED:20251118T193950Z
UID:4824-1771920000-1772038800@parabor.com.co
SUMMARY:Andina Paint 2026
DESCRIPTION:
URL:https://parabor.com.co/event/parabor-colombia-andina-paint-2026/
LOCATION:Hotel DoubleTree by Hilton Bogota Salitre AR\, Av. La Esmeralda #22-99\, Teusaquillo\, Bogotá\, Cundinamarca\, Colombia\, Bogotá\, Colombia
CATEGORIES:Colombia
ATTACH;FMTTYPE=image/png:https://parabor.com.co/wp-content/uploads/2025/11/Parabor-en-andina-paint-2026.png
END:VEVENT
END:VCALENDAR