BEGIN:VCALENDAR
VERSION:2.0
PRODID:-//Especialistas en el Suministro de Materias Primas - ECPv6.15.13.1//NONSGML v1.0//EN
CALSCALE:GREGORIAN
METHOD:PUBLISH
X-WR-CALNAME:Especialistas en el Suministro de Materias Primas
X-ORIGINAL-URL:https://parabor.com.co
X-WR-CALDESC:Eventos para Especialistas en el Suministro de Materias Primas
REFRESH-INTERVAL;VALUE=DURATION:PT1H
X-Robots-Tag:noindex
X-PUBLISHED-TTL:PT1H
BEGIN:VTIMEZONE
TZID:UTC
BEGIN:STANDARD
TZOFFSETFROM:+0000
TZOFFSETTO:+0000
TZNAME:UTC
DTSTART:20230101T000000
END:STANDARD
END:VTIMEZONE
BEGIN:VEVENT
DTSTART;TZID=UTC:20240806T080000
DTEND;TZID=UTC:20240808T170000
DTSTAMP:20260421T160855
CREATED:20240605T021852Z
LAST-MODIFIED:20240807T165318Z
UID:730-1722931200-1723136400@parabor.com.co
SUMMARY:3º Simposio de Tecnología del Caucho
DESCRIPTION:Parabor México presente en el 3º Simposio de Tecnología del Caucho\, en Hacienda Jurica by Las Brisas\, Querétaro. En el Stand 19\, durante el primer día de la muestra comercial y hasta el 8 de agosto\, Parabor México presenta su amplia gama de productos para la industria del caucho. El evento ofrece una excelente oportunidad para explorar las últimas tendencias y oportunidades del sector. Los asistentes pueden conocer más sobre el catálogo de la empresa\, que incluye polímeros\, hulequímicos predispersos\, cargas\, resinas\, esponjantes predispersos y plastificantes.
URL:https://parabor.com.co/event/3o-simposio-de-tecnologia-del-caucho/
LOCATION:Hacienda Jurica by Las Brisas\, P.º Jurica 700\, Jurica\, Santiago de Querétaro\, Querétaro\, 76100\, México
CATEGORIES:México
ATTACH;FMTTYPE=image/jpeg:https://parabor.com.co/wp-content/uploads/2024/06/11.jpg
END:VEVENT
END:VCALENDAR